BEGIN:VCALENDAR
VERSION:2.0
PRODID:-//ChamberMaster//Event Calendar 2.0//EN
METHOD:PUBLISH
X-PUBLISHED-TTL:P3D
REFRESH-INTERVAL:P3D
CALSCALE:GREGORIAN
BEGIN:VEVENT
DTSTART:20260515T170000Z
DTEND:20260515T180000Z
X-MICROSOFT-CDO-ALLDAYEVENT:FALSE
SUMMARY:May Business Builder's Luncheon
DESCRIPTION:LACC Business Builder's Luncheon\n\nJoin us for our May luncheon featuring Shelter Insurance as our guest speaker!\n\n  Friday\, May 15\n\n  12:00 PM (arrive around 11:40 AM)\n\n  Lebanon Civic Center\n\nCome connect with fellow Chamber members\, enjoy lunch\, and gain valuable insights from our speaker.\n\n  $15 Members | $20 Non-Members
X-ALT-DESC;FMTTYPE=text/html:<p data-end="184" data-start="47"><strong data-end="83" data-start="47">LACC Business Builder&rsquo\;s Luncheon</strong><br data-end="86" data-start="83" />\nJoin us for our May luncheon featuring <span class="hover:entity-accent entity-underline inline cursor-pointer align-baseline">Shelter Insurance</span> as our guest speaker!</p>\n\n<p data-end="286" data-start="186">&#128197\; Friday\, May 15<br data-end="206" data-start="203" />\n&#9200\; 12:00 PM (arrive around 11:40 AM)<br data-end="244" data-start="241" />\n&#128205\; <span class="hover:entity-accent entity-underline inline cursor-pointer align-baseline">Lebanon Civic Center</span></p>\n\n<p data-end="389" data-start="288">Come connect with fellow Chamber members\, enjoy lunch\, and gain valuable insights from our speaker.</p>\n\n<p data-end="425" data-start="391">&#128178\; $15 Members | $20 Non-Members</p>\n
LOCATION:Lebanon Civic Center
UID:e.1678.2026
SEQUENCE:3
DTSTAMP:20260423T002306Z
URL:https://members.lebmochamber.com/events/details/may-business-builder-s-luncheon-2026
END:VEVENT

END:VCALENDAR
