BEGIN:VCALENDAR
VERSION:2.0
PRODID:-//ChamberMaster//Event Calendar 2.0//EN
METHOD:PUBLISH
X-PUBLISHED-TTL:P3D
REFRESH-INTERVAL:P3D
CALSCALE:GREGORIAN
BEGIN:VEVENT
DTSTART:20260626T170000Z
DTEND:20260626T180000Z
X-MICROSOFT-CDO-ALLDAYEVENT:FALSE
SUMMARY:June Business Builder's Luncheon
DESCRIPTION:Join us for our June Business Builders Luncheon on Friday\, June 26th at 12:00 PM at the Civic Center (500 E. Elm St.\, Lebanon\, MO).\n\nWe're excited to welcome T's Tee's as our featured speaker\, sharing insights and their story with our local business community. Enjoy a delicious lunch catered by Sparrow's Ridge while connecting with fellow professionals and building valuable relationships.\n\nWe hope to see you there!
X-ALT-DESC;FMTTYPE=text/html:<p data-end="143" data-start="0">Join us for our <strong data-end="51" data-start="16">June Business Builders Luncheon</strong> on <strong data-end="88" data-start="55">Friday\, June 26th at 12:00 PM</strong> at the <strong data-end="142" data-start="96">Civic Center (500 E. Elm St.\, Lebanon\, MO)</strong>.</p>\n\n<p data-end="411" data-start="145">We&rsquo\;re excited to welcome <strong data-end="183" data-start="170">T&rsquo\;s Tee&rsquo\;s</strong> as our featured speaker\, sharing insights and their story with our local business community. Enjoy a delicious lunch catered by <strong data-end="331" data-start="312">Sparrow&rsquo\;s Ridge</strong> while connecting with fellow professionals and building valuable relationships.</p>\n\n<p data-end="438" data-is-last-node="" data-is-only-node="" data-start="413">We hope to see you there!</p>\n
LOCATION:500 E. Elm St.\, Lebanon\, MO (Civic Center)
UID:e.1678.2027
SEQUENCE:3
DTSTAMP:20260423T002306Z
URL:https://members.lebmochamber.com/events/details/june-business-builder-s-luncheon-2027
END:VEVENT

END:VCALENDAR
