BEGIN:VCALENDAR
VERSION:2.0
PRODID:-//ChamberMaster//Event Calendar 2.0//EN
METHOD:PUBLISH
X-PUBLISHED-TTL:P3D
REFRESH-INTERVAL:P3D
CALSCALE:GREGORIAN
BEGIN:VEVENT
DTSTART:20260717T170000Z
DTEND:20260717T180000Z
X-MICROSOFT-CDO-ALLDAYEVENT:FALSE
SUMMARY:July Business Builder's Luncheon
DESCRIPTION:LACC Business Builder's Luncheon\n\nJoin us on Friday\, July 17 from 12:00 1:00 PM for our Business Builder's Luncheon! This month's topic will focus on Healthcare Outlook\, offering valuable insights for our local business community. The luncheon will be held at the Wallace Building\, and lunch will be provided by Andy's 417 Catering.\n\n  $15 for Chamber Members\n\n  $20 for Non-Members\n\nDon't miss this opportunity to connect\, learn\, and stay informed!
X-ALT-DESC;FMTTYPE=text/html:<p data-end="403" data-start="62"><strong data-end="98" data-start="62">LACC Business Builder&rsquo\;s Luncheon</strong><br data-end="101" data-start="98" />\nJoin us on Friday\, July 17 from 12:00&ndash\;1:00 PM for our Business Builder&rsquo\;s Luncheon! This month&rsquo\;s topic will focus on <em data-end="237" data-start="217">Healthcare Outlook</em>\, offering valuable insights for our local business community. The luncheon will be held at the Wallace Building\, and lunch will be provided by Andy&rsquo\;s 417 Catering.</p>\n\n<p data-end="458" data-start="405">&#128178\; $15 for Chamber Members<br data-end="434" data-start="431" />\n&#128178\; $20 for Non-Members</p>\n\n<p data-end="525" data-is-last-node="" data-is-only-node="" data-start="460">Don&rsquo\;t miss this opportunity to connect\, learn\, and stay informed!</p>\n
LOCATION:The Wallace Building
UID:e.1678.2025
SEQUENCE:3
DTSTAMP:20260422T221423Z
URL:https://members.lebmochamber.com/events/details/july-business-builder-s-luncheon-2025
END:VEVENT

END:VCALENDAR
