BEGIN:VCALENDAR
VERSION:2.0
PRODID:-//ChamberMaster//Event Calendar 2.0//EN
METHOD:PUBLISH
X-PUBLISHED-TTL:P3D
REFRESH-INTERVAL:P3D
CALSCALE:GREGORIAN
BEGIN:VEVENT
DTSTART:20260416T223000Z
DTEND:20260417T010000Z
X-MICROSOFT-CDO-ALLDAYEVENT:FALSE
SUMMARY:2026 LACC Annual Dinner
DESCRIPTION:Join us for the Lebanon Area Chamber of Commerce 2026 Annual Dinner\, A Star-Spangled Celebration.\n\nThis special evening will celebrate America's 250th birthday while honoring the businesses and organizations that make our community strong.\n\nThe event will include:\n\n  Silent auction\n\n  50/50 raffle\n\n  Business award presentations\n\n  Remarks from Chamber leadership\n\n  Networking with fellow Chamber members\n\nBusiness awards to be presented include:\n\nLegacy Award\n\nEmerging Business of the Year\n\nPeople's Choice\n\nImpact of the Year (Nonprofit Award)\n\nPresident's Award\n\nBusiness Award Nominations are now open and will close 3/20/26. We encourage you to help us recognize outstanding Chamber members who are making a lasting impact in the Lebanon area.\n\nWe look forward to celebrating together for a star-spangled evening of recognition\, connection\, and community pride.
X-ALT-DESC;FMTTYPE=text/html:<p data-end="101" data-start="0">Join us for the Lebanon Area Chamber of Commerce 2026 Annual Dinner\, <strong data-end="100" data-start="69">A Star-Spangled Celebration</strong>.</p>\n\n<p data-end="243" data-start="103">This special evening will celebrate America&rsquo\;s 250th birthday while honoring the businesses and organizations that make our community strong.</p>\n\n<p data-end="418" data-start="245">The event will include:<br data-end="271" data-start="268" />\n&bull\; Silent auction<br data-end="290" data-start="287" />\n&bull\; 50/50 raffle<br data-end="307" data-start="304" />\n&bull\; Business award presentations<br data-end="340" data-start="337" />\n&bull\; Remarks from Chamber leadership<br data-end="376" data-start="373" />\n&bull\; Networking with fellow Chamber members</p>\n\n<p data-end="564" data-start="420">Business awards to be presented include:<br data-end="463" data-start="460" />\nLegacy Award<br data-end="478" data-start="475" />\nEmerging Business of the Year<br data-end="510" data-start="507" />\nPeople&rsquo\;s Choice<br data-end="528" data-start="525" />\nImpact of the Year (Nonprofit Award)<br />\nPresident&#39\;s Award</p>\n\n<p data-end="725" data-start="566">Business Award Nominations are now open and will close&nbsp\;3/20/26. We encourage you to help us recognize outstanding Chamber members who are making a lasting impact in the Lebanon area.</p>\n\n<p data-end="966" data-is-last-node="" data-is-only-node="" data-start="845">We look forward to celebrating together for a star-spangled evening of recognition\, connection\, and community pride.</p>\n
LOCATION:Kenneth E. Cowan Civic Center - Exhibit Hall
UID:e.1678.2024
SEQUENCE:3
DTSTAMP:20260424T084241Z
URL:https://members.lebmochamber.com/events/details/2026-lacc-annual-dinner-2024
END:VEVENT

END:VCALENDAR
